Workbook
Name Año: 'Programación diaria'!$C$13
Name BigNum: 9.99E+307
Name BigStr: REPT("z",255)
Name ColumnTitle2: Programador_de_eventos[[#Headers],[FECHA]]
Name ColumnTitle3: Hora[[#Headers],[Hora]]
Name DateVal: IFERROR('Programación diaria'!$F$2,"")
Name DayVal: 'Programación diaria'!$C$17
Name Hora_de_finalización: 'Intervalos de tiempo'!$C$8
Name Hora_de_inicio: 'Intervalos de tiempo'!$C$4
Name Incremento: TIME(0,MinuteInterval,0)
Name LookUpDateAndTime: Programador_de_eventos[FECHA]&Programador_de_eventos[TIEMPO]
Name MinuteInterval: --LEFT(MinuteText,2)
Name MinuteText: 'Intervalos de tiempo'!$C$6
Name MonthName: 'Programación diaria'!$C$15
Name MonthNumber: IF(MonthName="",MONTH(TODAY()),MONTH(1&LEFT(MonthName,3)))
Name ReportDay: IF(DayVal="",DAY(TODAY()),'Programación diaria'!$C$17)
Name ReportMonth: IF(MonthName="",TEXT(MONTH(TODAY()),"mmm"),MonthName)
Name ReportYear: IF(Año="",YEAR(TODAY()),Año)
Name ScheduleHighlight: 'Programación diaria'!$B$26
Name TimesList: Hora[Hora]
Name Title1: 'Programación diaria'!$E$2

Sheet Programación diaria
B1: Programación diaria
B2: =IFERROR(DAY(DateVal),"") | E2: #VALUE! | F2: =IFERROR(UPPER(TEXT(DATE(ReportYear,MonthNumber,ReportDay),"d mmmm aaaa")),"") -> 8 SEPTIEMBRE DOMINGO | H2: #VALUE! | I2: VISTA DE LA SEMANA | L2: #VALUE! | M2: NOTAS/LISTA DE TAREAS PENDIENTES
E3: Hora | F3: Descripción | H3: =IFERROR(TEXT(DATEVALUE(DateVal)+1,"dddd"),"") | I3: =IFERROR(INDEX(Programador_de_eventos[],MATCH($H$6&"|"&ROW(A1),Programador_de_eventos[VALOR ÚNICO (CALCULADO)],0),2),"") | J3: =IFERROR(INDEX(Programador_de_eventos[],MATCH($H$6&"|"&ROW(A1),Programador_de_eventos[VALOR ÚNICO (CALCULADO)],0),3),"") | M3: Recoger la ropa de la tintorería.
E4: ='Intervalos de tiempo'!E3 -> 0.25 | F4: =IFERROR(INDEX(Programador_de_eventos[],MATCH(DATEVALUE(DateVal)&Programación_diaria[[#This Row],[Hora]],LookUpDateAndTime,0),3),"") | H4: =IFERROR(TEXT(DATEVALUE(DateVal)+1,"d"),"") | I4: =IFERROR(INDEX(Programador_de_eventos[],MATCH($H$6&"|"&ROW(A2),Programador_de_eventos[VALOR ÚNICO (CALCULADO)],0),2),"") | J4: =IFERROR(INDEX(Programador_de_eventos[],MATCH($H$6&"|"&ROW(A2),Programador_de_eventos[VALOR ÚNICO (CALCULADO)],0),3),"")
E5: ='Intervalos de tiempo'!E4 -> 0.26041667 | F5: =IFERROR(INDEX(Programador_de_eventos[],MATCH(DATEVALUE(DateVal)&Programación_diaria[[#This Row],[Hora]],LookUpDateAndTime,0),3),"") | I5: =IFERROR(INDEX(Programador_de_eventos[],MATCH($H$6&"|"&ROW(A3),Programador_de_eventos[VALOR ÚNICO (CALCULADO)],0),2),"") | J5: =IFERROR(INDEX(Programador_de_eventos[],MATCH($H$6&"|"&ROW(A3),Programador_de_eventos[VALOR ÚNICO (CALCULADO)],0),3),"")
E6: ='Intervalos de tiempo'!E5 -> 0.27083333 | F6: =IFERROR(INDEX(Programador_de_eventos[],MATCH(DATEVALUE(DateVal)&Programación_diaria[[#This Row],[Hora]],LookUpDateAndTime,0),3),"") | H6: =IFERROR(DateVal+1,"") | I6: =IFERROR(INDEX(Programador_de_eventos[],MATCH($H$6&"|"&ROW(A4),Programador_de_eventos[VALOR ÚNICO (CALCULADO)],0),2),"") | J6: =IFERROR(INDEX(Programador_de_eventos[],MATCH($H$6&"|"&ROW(A4),Programador_de_eventos[VALOR ÚNICO (CALCULADO)],0),3),"") | M6: Llamar a la compañía telefónica
B7: =IFERROR(TEXT(DateVal,"dddd"),"") -> 8 SEPTIEMBRE DOMINGO | E7: ='Intervalos de tiempo'!E6 -> 0.28125 | F7: =IFERROR(INDEX(Programador_de_eventos[],MATCH(DATEVALUE(DateVal)&Programación_diaria[[#This Row],[Hora]],LookUpDateAndTime,0),3),"") | I7: =IFERROR(INDEX(Programador_de_eventos[],MATCH($H$6&"|"&ROW(A5),Programador_de_eventos[VALOR ÚNICO (CALCULADO)],0),2),"") | J7: =IFERROR(INDEX(Programador_de_eventos[],MATCH($H$6&"|"&ROW(A5),Programador_de_eventos[VALOR ÚNICO (CALCULADO)],0),3),"")
E8: ='Intervalos de tiempo'!E7 -> 0.29166667 | F8: =IFERROR(INDEX(Programador_de_eventos[],MATCH(DATEVALUE(DateVal)&Programación_diaria[[#This Row],[Hora]],LookUpDateAndTime,0),3),"") | I8: =IFERROR(INDEX(Programador_de_eventos[],MATCH($H$6&"|"&ROW(A6),Programador_de_eventos[VALOR ÚNICO (CALCULADO)],0),2),"") | J8: =IFERROR(INDEX(Programador_de_eventos[],MATCH($H$6&"|"&ROW(A6),Programador_de_eventos[VALOR ÚNICO (CALCULADO)],0),3),"")
E9: ='Intervalos de tiempo'!E8 -> 0.30208333 | F9: =IFERROR(INDEX(Programador_de_eventos[],MATCH(DATEVALUE(DateVal)&Programación_diaria[[#This Row],[Hora]],LookUpDateAndTime,0),3),"") | H9: =IFERROR(TEXT(DATEVALUE(DateVal)+2,"dddd"),"") | I9: =IFERROR(INDEX(Programador_de_eventos[],MATCH($H$12&"|"&ROW(A1),Programador_de_eventos[VALOR ÚNICO (CALCULADO)],0),2),"") | J9: =IFERROR(INDEX(Programador_de_eventos[],MATCH($H$12&"|"&ROW(A1),Programador_de_eventos[VALOR ÚNICO (CALCULADO)],0),3),"")
E10: ='Intervalos de tiempo'!E9 -> 0.3125 | F10: =IFERROR(INDEX(Programador_de_eventos[],MATCH(DATEVALUE(DateVal)&Programación_diaria[[#This Row],[Hora]],LookUpDateAndTime,0),3),"") | H10: =IFERROR(TEXT(DATEVALUE(DateVal)+2,"d"),"") | I10: =IFERROR(INDEX(Programador_de_eventos[],MATCH($H$12&"|"&ROW(A2),Programador_de_eventos[VALOR ÚNICO (CALCULADO)],0),2),"") | J10: =IFERROR(INDEX(Programador_de_eventos[],MATCH($H$12&"|"&ROW(A2),Programador_de_eventos[VALOR ÚNICO (CALCULADO)],0),3),"")
B11: VER PROGRAMACIÓN | E11: ='Intervalos de tiempo'!E10 -> 0.32291667 | F11: =IFERROR(INDEX(Programador_de_eventos[],MATCH(DATEVALUE(DateVal)&Programación_diaria[[#This Row],[Hora]],LookUpDateAndTime,0),3),"") | I11: =IFERROR(INDEX(Programador_de_eventos[],MATCH($H$12&"|"&ROW(A3),Programador_de_eventos[VALOR ÚNICO (CALCULADO)],0),2),"") | J11: =IFERROR(INDEX(Programador_de_eventos[],MATCH($H$12&"|"&ROW(A3),Programador_de_eventos[VALOR ÚNICO (CALCULADO)],0),3),"")
E12: ='Intervalos de tiempo'!E11 -> 0.33333333 | F12: =IFERROR(INDEX(Programador_de_eventos[],MATCH(DATEVALUE(DateVal)&Programación_diaria[[#This Row],[Hora]],LookUpDateAndTime,0),3),"") | H12: =IFERROR(DateVal+2,"") | I12: =IFERROR(INDEX(Programador_de_eventos[],MATCH($H$12&"|"&ROW(A4),Programador_de_eventos[VALOR ÚNICO (CALCULADO)],0),2),"") | J12: =IFERROR(INDEX(Programador_de_eventos[],MATCH($H$12&"|"&ROW(A4),Programador_de_eventos[VALOR ÚNICO (CALCULADO)],0),3),"")
B13: Año | E13: ='Intervalos de tiempo'!E12 -> 0.34375 | F13: =IFERROR(INDEX(Programador_de_eventos[],MATCH(DATEVALUE(DateVal)&Programación_diaria[[#This Row],[Hora]],LookUpDateAndTime,0),3),"") | I13: =IFERROR(INDEX(Programador_de_eventos[],MATCH($H$12&"|"&ROW(A5),Programador_de_eventos[VALOR ÚNICO (CALCULADO)],0),2),"") | J13: =IFERROR(INDEX(Programador_de_eventos[],MATCH($H$12&"|"&ROW(A5),Programador_de_eventos[VALOR ÚNICO (CALCULADO)],0),3),"")
E14: ='Intervalos de tiempo'!E13 -> 0.35416667 | F14: =IFERROR(INDEX(Programador_de_eventos[],MATCH(DATEVALUE(DateVal)&Programación_diaria[[#This Row],[Hora]],LookUpDateAndTime,0),3),"") | I14: =IFERROR(INDEX(Programador_de_eventos[],MATCH($H$12&"|"&ROW(A6),Programador_de_eventos[VALOR ÚNICO (CALCULADO)],0),2),"") | J14: =IFERROR(INDEX(Programador_de_eventos[],MATCH($H$12&"|"&ROW(A6),Programador_de_eventos[VALOR ÚNICO (CALCULADO)],0),3),"")
B15: Mes | E15: ='Intervalos de tiempo'!E14 -> 0.36458333 | F15: =IFERROR(INDEX(Programador_de_eventos[],MATCH(DATEVALUE(DateVal)&Programación_diaria[[#This Row],[Hora]],LookUpDateAndTime,0),3),"") | H15: =IFERROR(TEXT(DATEVALUE(DateVal)+3,"dddd"),"") | I15: =IFERROR(INDEX(Programador_de_eventos[],MATCH($H$18&"|"&ROW(A1),Programador_de_eventos[VALOR ÚNICO (CALCULADO)],0),2),"") | J15: =IFERROR(INDEX(Programador_de_eventos[],MATCH($H$18&"|"&ROW(A1),Programador_de_eventos[VALOR ÚNICO (CALCULADO)],0),3),"")
E16: ='Intervalos de tiempo'!E15 -> 0.375 | F16: =IFERROR(INDEX(Programador_de_eventos[],MATCH(DATEVALUE(DateVal)&Programación_diaria[[#This Row],[Hora]],LookUpDateAndTime,0),3),"") | H16: =IFERROR(TEXT(DATEVALUE(DateVal)+3,"d"),"") | I16: =IFERROR(INDEX(Programador_de_eventos[],MATCH($H$18&"|"&ROW(A2),Programador_de_eventos[VALOR ÚNICO (CALCULADO)],0),2),"") | J16: =IFERROR(INDEX(Programador_de_eventos[],MATCH($H$18&"|"&ROW(A2),Programador_de_eventos[VALOR ÚNICO (CALCULADO)],0),3),"")
B17: Día | E17: ='Intervalos de tiempo'!E16 -> 0.38541667 | F17: =IFERROR(INDEX(Programador_de_eventos[],MATCH(DATEVALUE(DateVal)&Programación_diaria[[#This Row],[Hora]],LookUpDateAndTime,0),3),"") | I17: =IFERROR(INDEX(Programador_de_eventos[],MATCH($H$18&"|"&ROW(A3),Programador_de_eventos[VALOR ÚNICO (CALCULADO)],0),2),"") | J17: =IFERROR(INDEX(Programador_de_eventos[],MATCH($H$18&"|"&ROW(A3),Programador_de_eventos[VALOR ÚNICO (CALCULADO)],0),3),"")
E18: ='Intervalos de tiempo'!E17 -> 0.39583333 | F18: =IFERROR(INDEX(Programador_de_eventos[],MATCH(DATEVALUE(DateVal)&Programación_diaria[[#This Row],[Hora]],LookUpDateAndTime,0),3),"") | H18: =IFERROR(DateVal+3,"") | I18: =IFERROR(INDEX(Programador_de_eventos[],MATCH($H$18&"|"&ROW(A4),Programador_de_eventos[VALOR ÚNICO (CALCULADO)],0),2),"") | J18: =IFERROR(INDEX(Programador_de_eventos[],MATCH($H$18&"|"&ROW(A4),Programador_de_eventos[VALOR ÚNICO (CALCULADO)],0),3),"")
B19: EDITAR PROGRAMACIÓN | E19: ='Intervalos de tiempo'!E18 -> 0.40625 | F19: =IFERROR(INDEX(Programador_de_eventos[],MATCH(DATEVALUE(DateVal)&Programación_diaria[[#This Row],[Hora]],LookUpDateAndTime,0),3),"") | I19: =IFERROR(INDEX(Programador_de_eventos[],MATCH($H$18&"|"&ROW(A5),Programador_de_eventos[VALOR ÚNICO (CALCULADO)],0),2),"") | J19: =IFERROR(INDEX(Programador_de_eventos[],MATCH($H$18&"|"&ROW(A5),Programador_de_eventos[VALOR ÚNICO (CALCULADO)],0),3),"")
E20: ='Intervalos de tiempo'!E19 -> 0.41666667 | F20: =IFERROR(INDEX(Programador_de_eventos[],MATCH(DATEVALUE(DateVal)&Programación_diaria[[#This Row],[Hora]],LookUpDateAndTime,0),3),"") | I20: =IFERROR(INDEX(Programador_de_eventos[],MATCH($H$18&"|"&ROW(A6),Programador_de_eventos[VALOR ÚNICO (CALCULADO)],0),2),"") | J20: =IFERROR(INDEX(Programador_de_eventos[],MATCH($H$18&"|"&ROW(A6),Programador_de_eventos[VALOR ÚNICO (CALCULADO)],0),3),"")
B21: Seleccione esta opción para editar los intervalos de tiempo. | E21: ='Intervalos de tiempo'!E20 -> 0.42708333 | F21: =IFERROR(INDEX(Programador_de_eventos[],MATCH(DATEVALUE(DateVal)&Programación_diaria[[#This Row],[Hora]],LookUpDateAndTime,0),3),"") | H21: =IFERROR(TEXT(DATEVALUE(DateVal)+4,"dddd"),"") | I21: =IFERROR(INDEX(Programador_de_eventos[],MATCH($H$24&"|"&ROW(A1),Programador_de_eventos[VALOR ÚNICO (CALCULADO)],0),2),"") | J21: =IFERROR(INDEX(Programador_de_eventos[],MATCH($H$24&"|"&ROW(A1),Programador_de_eventos[VALOR ÚNICO (CALCULADO)],0),3),"")
E22: ='Intervalos de tiempo'!E21 -> 0.4375 | F22: =IFERROR(INDEX(Programador_de_eventos[],MATCH(DATEVALUE(DateVal)&Programación_diaria[[#This Row],[Hora]],LookUpDateAndTime,0),3),"") | H22: =IFERROR(TEXT(DATEVALUE(DateVal)+4,"d"),"") | I22: =IFERROR(INDEX(Programador_de_eventos[],MATCH($H$24&"|"&ROW(A2),Programador_de_eventos[VALOR ÚNICO (CALCULADO)],0),2),"") | J22: =IFERROR(INDEX(Programador_de_eventos[],MATCH($H$24&"|"&ROW(A2),Programador_de_eventos[VALOR ÚNICO (CALCULADO)],0),3),"")
B23: Seleccione esta opción para agregar un nuevo evento. | E23: ='Intervalos de tiempo'!E22 -> 0.44791667 | F23: =IFERROR(INDEX(Programador_de_eventos[],MATCH(DATEVALUE(DateVal)&Programación_diaria[[#This Row],[Hora]],LookUpDateAndTime,0),3),"") | I23: =IFERROR(INDEX(Programador_de_eventos[],MATCH($H$24&"|"&ROW(A3),Programador_de_eventos[VALOR ÚNICO (CALCULADO)],0),2),"") | J23: =IFERROR(INDEX(Programador_de_eventos[],MATCH($H$24&"|"&ROW(A3),Programador_de_eventos[VALOR ÚNICO (CALCULADO)],0),3),"")
E24: ='Intervalos de tiempo'!E23 -> 0.45833333 | F24: =IFERROR(INDEX(Programador_de_eventos[],MATCH(DATEVALUE(DateVal)&Programación_diaria[[#This Row],[Hora]],LookUpDateAndTime,0),3),"") | H24: =IFERROR(DateVal+4,"") | I24: =IFERROR(INDEX(Programador_de_eventos[],MATCH($H$24&"|"&ROW(A4),Programador_de_eventos[VALOR ÚNICO (CALCULADO)],0),2),"") | J24: =IFERROR(INDEX(Programador_de_eventos[],MATCH($H$24&"|"&ROW(A4),Programador_de_eventos[VALOR ÚNICO (CALCULADO)],0),3),"")
B25: RESALTAR EN LA PROGRAMACIÓN: | E25: ='Intervalos de tiempo'!E24 -> 0.46875 | F25: =IFERROR(INDEX(Programador_de_eventos[],MATCH(DATEVALUE(DateVal)&Programación_diaria[[#This Row],[Hora]],LookUpDateAndTime,0),3),"") | I25: =IFERROR(INDEX(Programador_de_eventos[],MATCH($H$24&"|"&ROW(A5),Programador_de_eventos[VALOR ÚNICO (CALCULADO)],0),2),"") | J25: =IFERROR(INDEX(Programador_de_eventos[],MATCH($H$24&"|"&ROW(A5),Programador_de_eventos[VALOR ÚNICO (CALCULADO)],0),3),"")
B26: Descanso | E26: ='Intervalos de tiempo'!E25 -> 0.47916667 | F26: =IFERROR(INDEX(Programador_de_eventos[],MATCH(DATEVALUE(DateVal)&Programación_diaria[[#This Row],[Hora]],LookUpDateAndTime,0),3),"") | H26: =IFERROR(TEXT(DATEVALUE(DateVal)+5,"dddd"),"") | I26: =IFERROR(INDEX(Programador_de_eventos[],MATCH($H$29&"|"&ROW(A1),Programador_de_eventos[VALOR ÚNICO (CALCULADO)],0),2),"") | J26: =IFERROR(INDEX(Programador_de_eventos[],MATCH($H$29&"|"&ROW(A1),Programador_de_eventos[VALOR ÚNICO (CALCULADO)],0),3),"")
E27: ='Intervalos de tiempo'!E26 -> 0.48958333 | F27: =IFERROR(INDEX(Programador_de_eventos[],MATCH(DATEVALUE(DateVal)&Programación_diaria[[#This Row],[Hora]],LookUpDateAndTime,0),3),"") | H27: =IFERROR(TEXT(DATEVALUE(DateVal)+5,"d"),"") | I27: =IFERROR(INDEX(Programador_de_eventos[],MATCH($H$29&"|"&ROW(A2),Programador_de_eventos[VALOR ÚNICO (CALCULADO)],0),2),"") | J27: =IFERROR(INDEX(Programador_de_eventos[],MATCH($H$29&"|"&ROW(A2),Programador_de_eventos[VALOR ÚNICO (CALCULADO)],0),3),"")
E28: ='Intervalos de tiempo'!E27 -> 0.5 | F28: =IFERROR(INDEX(Programador_de_eventos[],MATCH(DATEVALUE(DateVal)&Programación_diaria[[#This Row],[Hora]],LookUpDateAndTime,0),3),"") | I28: =IFERROR(INDEX(Programador_de_eventos[],MATCH($H$29&"|"&ROW(A3),Programador_de_eventos[VALOR ÚNICO (CALCULADO)],0),2),"") | J28: =IFERROR(INDEX(Programador_de_eventos[],MATCH($H$29&"|"&ROW(A3),Programador_de_eventos[VALOR ÚNICO (CALCULADO)],0),3),"")
E29: ='Intervalos de tiempo'!E28 -> 0.51041667 | F29: =IFERROR(INDEX(Programador_de_eventos[],MATCH(DATEVALUE(DateVal)&Programación_diaria[[#This Row],[Hora]],LookUpDateAndTime,0),3),"") | H29: =IFERROR(DateVal+5,"") | I29: =IFERROR(INDEX(Programador_de_eventos[],MATCH($H$29&"|"&ROW(A4),Programador_de_eventos[VALOR ÚNICO (CALCULADO)],0),2),"") | J29: =IFERROR(INDEX(Programador_de_eventos[],MATCH($H$29&"|"&ROW(A4),Programador_de_eventos[VALOR ÚNICO (CALCULADO)],0),3),"")
E30: ='Intervalos de tiempo'!E29 -> 0.52083333 | F30: =IFERROR(INDEX(Programador_de_eventos[],MATCH(DATEVALUE(DateVal)&Programación_diaria[[#This Row],[Hora]],LookUpDateAndTime,0),3),"") | I30: =IFERROR(INDEX(Programador_de_eventos[],MATCH($H$29&"|"&ROW(A5),Programador_de_eventos[VALOR ÚNICO (CALCULADO)],0),2),"") | J30: =IFERROR(INDEX(Programador_de_eventos[],MATCH($H$29&"|"&ROW(A5),Programador_de_eventos[VALOR ÚNICO (CALCULADO)],0),3),"")
E31: ='Intervalos de tiempo'!E30 -> 0.53125 | F31: =IFERROR(INDEX(Programador_de_eventos[],MATCH(DATEVALUE(DateVal)&Programación_diaria[[#This Row],[Hora]],LookUpDateAndTime,0),3),"") | H31: =IFERROR(TEXT(DATEVALUE(DateVal)+6,"dddd"),"") | I31: =IFERROR(INDEX(Programador_de_eventos[],MATCH($H$34&"|"&ROW(A1),Programador_de_eventos[VALOR ÚNICO (CALCULADO)],0),2),"") | J31: =IFERROR(INDEX(Programador_de_eventos[],MATCH($H$34&"|"&ROW(A1),Programador_de_eventos[VALOR ÚNICO (CALCULADO)],0),3),"")
E32: ='Intervalos de tiempo'!E31 -> 0.54166667 | F32: =IFERROR(INDEX(Programador_de_eventos[],MATCH(DATEVALUE(DateVal)&Programación_diaria[[#This Row],[Hora]],LookUpDateAndTime,0),3),"") | H32: =IFERROR(TEXT(DATEVALUE(DateVal)+6,"d"),"") | I32: =IFERROR(INDEX(Programador_de_eventos[],MATCH($H$34&"|"&ROW(A2),Programador_de_eventos[VALOR ÚNICO (CALCULADO)],0),2),"") | J32: =IFERROR(INDEX(Programador_de_eventos[],MATCH($H$34&"|"&ROW(A2),Programador_de_eventos[VALOR ÚNICO (CALCULADO)],0),3),"")
E33: ='Intervalos de tiempo'!E32 -> 0.55208333 | F33: =IFERROR(INDEX(Programador_de_eventos[],MATCH(DATEVALUE(DateVal)&Programación_diaria[[#This Row],[Hora]],LookUpDateAndTime,0),3),"") | I33: =IFERROR(INDEX(Programador_de_eventos[],MATCH($H$34&"|"&ROW(A3),Programador_de_eventos[VALOR ÚNICO (CALCULADO)],0),2),"") | J33: =IFERROR(INDEX(Programador_de_eventos[],MATCH($H$34&"|"&ROW(A3),Programador_de_eventos[VALOR ÚNICO (CALCULADO)],0),3),"")
E34: ='Intervalos de tiempo'!E33 -> 0.5625 | F34: =IFERROR(INDEX(Programador_de_eventos[],MATCH(DATEVALUE(DateVal)&Programación_diaria[[#This Row],[Hora]],LookUpDateAndTime,0),3),"") | H34: =IFERROR(DateVal+6,"") | I34: =IFERROR(INDEX(Programador_de_eventos[],MATCH($H$34&"|"&ROW(A4),Programador_de_eventos[VALOR ÚNICO (CALCULADO)],0),2),"") | J34: =IFERROR(INDEX(Programador_de_eventos[],MATCH($H$34&"|"&ROW(A4),Programador_de_eventos[VALOR ÚNICO (CALCULADO)],0),3),"")
E35: ='Intervalos de tiempo'!E34 -> 0.57291667 | F35: =IFERROR(INDEX(Programador_de_eventos[],MATCH(DATEVALUE(DateVal)&Programación_diaria[[#This Row],[Hora]],LookUpDateAndTime,0),3),"") | I35: =IFERROR(INDEX(Programador_de_eventos[],MATCH($H$34&"|"&ROW(A5),Programador_de_eventos[VALOR ÚNICO (CALCULADO)],0),2),"") | J35: =IFERROR(INDEX(Programador_de_eventos[],MATCH($H$34&"|"&ROW(A5),Programador_de_eventos[VALOR ÚNICO (CALCULADO)],0),3),"")
E36: ='Intervalos de tiempo'!E35 -> 0.58333333 | F36: =IFERROR(INDEX(Programador_de_eventos[],MATCH(DATEVALUE(DateVal)&Programación_diaria[[#This Row],[Hora]],LookUpDateAndTime,0),3),"")
E37: ='Intervalos de tiempo'!E36 -> 0.59375 | F37: =IFERROR(INDEX(Programador_de_eventos[],MATCH(DATEVALUE(DateVal)&Programación_diaria[[#This Row],[Hora]],LookUpDateAndTime,0),3),"")
E38: ='Intervalos de tiempo'!E37 -> 0.60416667 | F38: =IFERROR(INDEX(Programador_de_eventos[],MATCH(DATEVALUE(DateVal)&Programación_diaria[[#This Row],[Hora]],LookUpDateAndTime,0),3),"")
E39: ='Intervalos de tiempo'!E38 -> 0.61458333 | F39: =IFERROR(INDEX(Programador_de_eventos[],MATCH(DATEVALUE(DateVal)&Programación_diaria[[#This Row],[Hora]],LookUpDateAndTime,0),3),"")
E40: ='Intervalos de tiempo'!E39 -> 0.625 | F40: =IFERROR(INDEX(Programador_de_eventos[],MATCH(DATEVALUE(DateVal)&Programación_diaria[[#This Row],[Hora]],LookUpDateAndTime,0),3),"")
...

Sheet Programador de eventos
B1: Programador de eventos
B2: =DAY(DateVal) -> #VALUE! | E2: FECHA | F2: TIEMPO | G2: DESCRIPCIÓN | H2: VALOR ÚNICO (CALCULADO)
E3: =TODAY() -> 45543 | F3: 0.25 | G3: Despertarse | H3: =Programador_de_eventos[[#This Row],[FECHA]]&"|"&COUNTIF($E$3:E3,E3) -> 45543|1
E4: =TODAY() -> 45543 | F4: 0.27083333 | G4: Ducha | H4: =Programador_de_eventos[[#This Row],[FECHA]]&"|"&COUNTIF($E$3:E4,E4) -> 45543|2
E5: =TODAY() -> 45543 | F5: 0.3125 | G5: Ir al trabajo | H5: =Programador_de_eventos[[#This Row],[FECHA]]&"|"&COUNTIF($E$3:E5,E5) -> 45543|3
B6: =TEXT(DateVal,"dddd") -> 8 SEPTIEMBRE DOMINGO | E6: =TODAY() -> 45543 | F6: 0.33333333 | G6: Comenzar el turno | H6: =Programador_de_eventos[[#This Row],[FECHA]]&"|"&COUNTIF($E$3:E6,E6) -> 45543|4
E7: =TODAY() -> 45543 | F7: 0.41666667 | G7: Descanso | H7: =Programador_de_eventos[[#This Row],[FECHA]]&"|"&COUNTIF($E$3:E7,E7) -> 45543|5
B8: =DateVal -> 8 SEPTIEMBRE DOMINGO | E8: =TODAY() -> 45543 | F8: 0.5 | G8: Comida | H8: =Programador_de_eventos[[#This Row],[FECHA]]&"|"&COUNTIF($E$3:E8,E8) -> 45543|6
E9: =TODAY() -> 45543 | F9: 0.54166667 | G9: Volver al trabajo | H9: =Programador_de_eventos[[#This Row],[FECHA]]&"|"&COUNTIF($E$3:E9,E9) -> 45543|7
B10: Seleccione esta opción para editar los intervalos de tiempo. | E10: =TODAY() -> 45543 | F10: 0.5625 | G10: Llamada corporativa | H10: =Programador_de_eventos[[#This Row],[FECHA]]&"|"&COUNTIF($E$3:E10,E10) -> 45543|8
E11: =TODAY() -> 45543 | F11: 0.625 | G11: Descanso | H11: =Programador_de_eventos[[#This Row],[FECHA]]&"|"&COUNTIF($E$3:E11,E11) -> 45543|9
B12: Seleccione esta opción para ver la programación diaria. | E12: =TODAY() -> 45543 | F12: 0.70833333 | G12: Casa | H12: =Programador_de_eventos[[#This Row],[FECHA]]&"|"&COUNTIF($E$3:E12,E12) -> 45543|10
E13: =TODAY() -> 45543 | F13: 0.75 | G13: Entrenamiento de fútbol | H13: =Programador_de_eventos[[#This Row],[FECHA]]&"|"&COUNTIF($E$3:E13,E13) -> 45543|11
E14: =TODAY()+1 -> 45544 | F14: 0.27083333 | G14: Desayuno | H14: =Programador_de_eventos[[#This Row],[FECHA]]&"|"&COUNTIF($E$3:E15,E14) -> 45544|2
E15: =TODAY()+1 -> 45544 | F15: 0.3125 | G15: Ir al trabajo | H15: =Programador_de_eventos[[#This Row],[FECHA]]&"|"&COUNTIF($E$3:E15,E15) -> 45544|2

Sheet Intervalos de tiempo
B1: Intervalos de tiempo
B2: EDITAR LA TABLA DE HORAS | E2: Hora
E3: =Hora_de_inicio -> 0.25
B4: Hora de inicio | C4: 0.25 | E4: =IFERROR(IF($E3+Incremento>Hora_de_finalización,"",$E3+Incremento),"") -> 0.26041667
E5: =IFERROR(IF($E4+Incremento>Hora_de_finalización,"",$E4+Incremento),"") -> 0.27083333
B6: Intervalo | C6: 15 MIN | E6: =IFERROR(IF($E5+Incremento>Hora_de_finalización,"",$E5+Incremento),"") -> 0.28125
E7: =IFERROR(IF($E6+Incremento>Hora_de_finalización,"",$E6+Incremento),"") -> 0.29166667
B8: Hora de finalización | C8: 0.875 | E8: =IFERROR(IF($E7+Incremento>Hora_de_finalización,"",$E7+Incremento),"") -> 0.30208333
E9: =IFERROR(IF($E8+Incremento>Hora_de_finalización,"",$E8+Incremento),"") -> 0.3125
B10: VER PROGRAMACIÓN | E10: =IFERROR(IF($E9+Incremento>Hora_de_finalización,"",$E9+Incremento),"") -> 0.32291667
E11: =IFERROR(IF($E10+Incremento>Hora_de_finalización,"",$E10+Incremento),"") -> 0.33333333
B12: Seleccione esta opción para ver la programación diaria. | E12: =IFERROR(IF($E11+Incremento>Hora_de_finalización,"",$E11+Incremento),"") -> 0.34375
E13: =IFERROR(IF($E12+Incremento>Hora_de_finalización,"",$E12+Incremento),"") -> 0.35416667
B14: Seleccione esta opción para agregar un nuevo evento. | E14: =IFERROR(IF($E13+Incremento>Hora_de_finalización,"",$E13+Incremento),"") -> 0.36458333
E15: =IFERROR(IF($E14+Incremento>Hora_de_finalización,"",$E14+Incremento),"") -> 0.375
E16: =IFERROR(IF($E15+Incremento>Hora_de_finalización,"",$E15+Incremento),"") -> 0.38541667
E17: =IFERROR(IF($E16+Incremento>Hora_de_finalización,"",$E16+Incremento),"") -> 0.39583333
E18: =IFERROR(IF($E17+Incremento>Hora_de_finalización,"",$E17+Incremento),"") -> 0.40625
E19: =IFERROR(IF($E18+Incremento>Hora_de_finalización,"",$E18+Incremento),"") -> 0.41666667
E20: =IFERROR(IF($E19+Incremento>Hora_de_finalización,"",$E19+Incremento),"") -> 0.42708333
E21: =IFERROR(IF($E20+Incremento>Hora_de_finalización,"",$E20+Incremento),"") -> 0.4375
E22: =IFERROR(IF($E21+Incremento>Hora_de_finalización,"",$E21+Incremento),"") -> 0.44791667
E23: =IFERROR(IF($E22+Incremento>Hora_de_finalización,"",$E22+Incremento),"") -> 0.45833333
E24: =IFERROR(IF($E23+Incremento>Hora_de_finalización,"",$E23+Incremento),"") -> 0.46875
E25: =IFERROR(IF($E24+Incremento>Hora_de_finalización,"",$E24+Incremento),"") -> 0.47916667
E26: =IFERROR(IF($E25+Incremento>Hora_de_finalización,"",$E25+Incremento),"") -> 0.48958333
... E75: =IFERROR(IF($E74+Incremento>Hora_de_finalización,"",$E74+Incremento),"")
