Workbook
Name Total_Wedding_Budget: 'Resumen de presupuesto'!$C$3

Sheet Resumen de presupuesto
B3: PRESUPUESTO TOTAL PARA LA BODA | C3: 20000
B5: GASTOS | C5: Asignación % | D5: Presupuesto asignado | E5: Estimado Costes | F5: Real Costes
B6: Recepción | C6: 0.5 | D6: =Total_Wedding_Budget*'Resumen de presupuesto'!$C6 -> 10000 | E6: =Table_Reception[[#Totals],[Costes estimados]] -> 0 | F6: =Table_Reception[[#Totals],[Costes reales]] -> 0
B7: Atuendo | C7: 0.1 | D7: =Total_Wedding_Budget*'Resumen de presupuesto'!$C7 -> 2000 | E7: =Table_Attire[[#Totals],[Costes estimados]] -> 0 | F7: =Table_Attire[[#Totals],[Costes reales]] -> 0
B8: Flores y decoración | C8: 0.1 | D8: =Total_Wedding_Budget*'Resumen de presupuesto'!$C8 -> 2000 | E8: =Table_FlowersAndDecorations[[#Totals],[Costes estimados]] -> 0 | F8: =Table_FlowersAndDecorations[[#Totals],[Costes reales]] -> 0
B9: Música | C9: 0.1 | D9: =Total_Wedding_Budget*'Resumen de presupuesto'!$C9 -> 2000 | E9: =Table_Music[[#Totals],[Costes estimados]] -> 0 | F9: =Table_Music[[#Totals],[Costes reales]] -> 0
B10: Fotografías y vídeo | C10: 0.1 | D10: =Total_Wedding_Budget*'Resumen de presupuesto'!$C10 -> 2000 | E10: =Table_PhotographsAndVideo[[#Totals],[Costes estimados]] -> 0 | F10: =Table_PhotographsAndVideo[[#Totals],[Costes reales]] -> 0
B11: Detalles y regalos | C11: 0.03 | D11: =Total_Wedding_Budget*'Resumen de presupuesto'!$C11 -> 600 | E11: =Table_FavorsAndGifts[[#Totals],[Costes estimados]] -> 0 | F11: =Table_FavorsAndGifts[[#Totals],[Costes reales]] -> 0
B12: Ceremonia | C12: 0.02 | D12: =Total_Wedding_Budget*'Resumen de presupuesto'!$C12 -> 400 | E12: =Table_Ceremony[[#Totals],[Costes estimados]] -> 0 | F12: =Table_Ceremony[[#Totals],[Costes reales]] -> 0
B13: Papelería | C13: 0.02 | D13: =Total_Wedding_Budget*'Resumen de presupuesto'!$C13 -> 400 | E13: =Table_Stationery[[#Totals],[Costes estimados]] -> 0 | F13: =Table_Stationery[[#Totals],[Costes reales]] -> 0
B14: Alianzas | C14: 0.02 | D14: =Total_Wedding_Budget*'Resumen de presupuesto'!$C14 -> 400 | E14: =Table_WeddingRings[[#Totals],[Costes estimados]] -> 0 | F14: =Table_WeddingRings[[#Totals],[Costes reales]] -> 0
B15: Transporte | C15: 0.01 | D15: =Total_Wedding_Budget*'Resumen de presupuesto'!$C15 -> 200 | E15: =Table_Transportation[[#Totals],[Costes estimados]] -> 0 | F15: =Table_Transportation[[#Totals],[Costes reales]] -> 0
B16: Total | C16: =SUM(C6:C15) -> 1 | D16: =SUM(D6:D15) -> 20000 | E16: =SUM(E6:E15) -> 0 | F16: =SUM(F6:F15) -> 0
B18: CONTRIBUCIONES
B19: Origen de fondos | C19: Contribución
B20: Ahorros | C20: 10000
B21: Padre y madre de cónyuge 1 | C21: 4000
B22: Abuelos del cónyuge 1 | C22: 2000
B23: Padre y madre de cónyuge 2 | C23: 4000
B24: Abuelos del cónyuge 2 | C24: 4000
B25: Otras contribuciones | C25: 2000
B26: Total | C26: =SUBTOTAL(109,Table_Contributions[Contribución]) -> 26000
B28: =IF(Table_Contributions[[#Totals],[Contribución]]<Total_Wedding_Budget,"Diferencia para compensar","Fondos extras disponibles") -> Fondos extras disponibles | C28: =IF(Table_Contributions[[#Totals],[Contribución]]<Total_Wedding_Budget,Total_Wedding_Budget-Table_Contributions[[#Totals],[Contribución]],Table_Contributions[[#Totals],[Contribución]]-Total_Wedding_Budget) -> 6000

Sheet Detalles del presupuesto
B2: RECEPCIÓN | C2: Costes estimados | D2: Costes reales
B3: Recinto y alquiler
B4: Comidas y servicio
B5: Bebidas
B6: Tarta
B7: Gastos varios
B8: Total | C8: =SUBTOTAL(109,Table_Reception[Costes estimados]) -> 0 | D8: =SUBTOTAL(109,Table_Reception[Costes reales]) -> 0
B10: ATUENDO | C10: Costes estimados | D10: Costes reales
B11: Esmoquin, traje o vestidos
B12: Arreglos
B13: Tocado y velo
B14: Accesorios
B15: Peluquería y maquillaje
B16: Gastos varios
B17: Total | C17: =SUBTOTAL(109,Table_Attire[Costes estimados]) -> 0 | D17: =SUBTOTAL(109,Table_Attire[Costes reales]) -> 0
B19: FLORES Y ADORNOS | C19: Costes estimados | D19: Costes reales
B20: Arreglos florales para la ceremonia
B21: Flores y canastilla de la niña
B22: Cojín para alianzas
B23: Ramos
B24: Flores para el ojal
B25: Ramilletes
B26: Decoración de recepción
B27: Iluminación
B28: Gastos varios
B29: Total | C29: =SUBTOTAL(109,Table_FlowersAndDecorations[Costes estimados]) -> 0 | D29: =SUBTOTAL(109,Table_FlowersAndDecorations[Costes reales]) -> 0
B31: MÚSICA | C31: Costes estimados | D31: Costes reales
B32: Músicos para la ceremonia
B33: Músicos para el cóctel
B34: Banda, DJ o entretenimiento para la recepción
B35: Sistema de sonido o alquiler de pista de baile
B36: Gastos varios
B37: Total | C37: =SUBTOTAL(109,Table_Music[Costes estimados]) -> 0 | D37: =SUBTOTAL(109,Table_Music[Costes reales]) -> 0
B39: FOTOGRAFÍAS Y VÍDEO | C39: Costes estimados | D39: Costes reales
B40: Fotografía
B41: Vídeo
B42: Copias adicionales y álbumes
B43: Gastos varios
B44: Total | C44: =SUBTOTAL(109,Table_PhotographsAndVideo[Costes estimados]) -> 0 | D44: =SUBTOTAL(109,Table_PhotographsAndVideo[Costes reales]) -> 0
B46: DETALLES Y REGALOS | C46: Costes estimados | D46: Costes reales
...
